BEGIN:VCALENDAR
VERSION:2.0
PRODID:-//Praxis Essgenuss - ECPv6.15.20//NONSGML v1.0//EN
CALSCALE:GREGORIAN
METHOD:PUBLISH
X-ORIGINAL-URL:https://praxis-essgenuss.de
X-WR-CALDESC:Veranstaltungen für Praxis Essgenuss
REFRESH-INTERVAL;VALUE=DURATION:PT1H
X-Robots-Tag:noindex
X-PUBLISHED-TTL:PT1H
BEGIN:VTIMEZONE
TZID:Europe/Berlin
BEGIN:DAYLIGHT
TZOFFSETFROM:+0100
TZOFFSETTO:+0200
TZNAME:CEST
DTSTART:20240331T010000
END:DAYLIGHT
BEGIN:STANDARD
TZOFFSETFROM:+0200
TZOFFSETTO:+0100
TZNAME:CET
DTSTART:20241027T010000
END:STANDARD
BEGIN:DAYLIGHT
TZOFFSETFROM:+0100
TZOFFSETTO:+0200
TZNAME:CEST
DTSTART:20250330T010000
END:DAYLIGHT
BEGIN:STANDARD
TZOFFSETFROM:+0200
TZOFFSETTO:+0100
TZNAME:CET
DTSTART:20251026T010000
END:STANDARD
BEGIN:DAYLIGHT
TZOFFSETFROM:+0100
TZOFFSETTO:+0200
TZNAME:CEST
DTSTART:20260329T010000
END:DAYLIGHT
BEGIN:STANDARD
TZOFFSETFROM:+0200
TZOFFSETTO:+0100
TZNAME:CET
DTSTART:20261025T010000
END:STANDARD
END:VTIMEZONE
BEGIN:VEVENT
DTSTART;TZID=Europe/Berlin:20250808T110000
DTEND;TZID=Europe/Berlin:20250808T140000
DTSTAMP:20260424T003524
CREATED:20250701T093544Z
LAST-MODIFIED:20250701T093547Z
UID:10000177-1754650800-1754661600@praxis-essgenuss.de
SUMMARY:Ferien-Kochkurs für Kinder
DESCRIPTION:Ferienzeit = Kochzeit! In unserem Kurs entdecken Kinder von 10 bis 15 Jahren\, wie viel Freude und Kreativität in der Küche stecken. Ob frische selbstgemachte Pasta\, bunte Salate oder süße Überraschungen – die Kids lernen spielerisch den Umgang mit frischen Zutaten und entdecken\, wie viel Spaß gesundes Kochen macht. Unter unserer Anleitung können alle ihre Kochkünste ausprobieren\, Neues lernen und am Ende die selbstgemachten Köstlichkeiten genießen . \n\n\n\nIn einer kleinen Gruppe wird gemeinsam gelacht\, gekocht und natürlich auch geschlemmt. Ein Nachmittag voller Genuss\, Spaß und neuer kulinarischer Abenteuer wartet auf die Kids!
URL:https://praxis-essgenuss.de/event/ferien-kochkurs-fuer-kinder/
ATTACH;FMTTYPE=image/jpeg:https://praxis-essgenuss.de/wp-content/uploads/2025/07/Kinder-.jpg
END:VEVENT
BEGIN:VEVENT
DTSTART;TZID=Europe/Berlin:20250823T100000
DTEND;TZID=Europe/Berlin:20250823T150000
DTSTAMP:20260424T003524
CREATED:20250324T102144Z
LAST-MODIFIED:20250512T123728Z
UID:10000166-1755943200-1755961200@praxis-essgenuss.de
SUMMARY:Leberfasten - Der Gesundheitskochkurs
DESCRIPTION:Sie haben eine Fet­tle­ber\, möcht­en mit ein­er low-carb Ernährung oder mit Inter­vall­fas­ten Ihren Stof­fwech­sel ankurbeln?Erfahren Sie wichtig­sten Fak­ten über die Fet­tle­ber. Wir zeigen Ihnen\, wie aus frischen Lebens­mit­teln genussvolle und kreative\, leber­fre­undliche Kochideen entste­hen und wie Sie das Leber­fas­ten in Ihren All­t­ag inte­gri­eren können. \n\n\n\nDie Rezepte sind all­t­agstauglich\, kreativ\, unkom­pliziert und vor allem leck­er! Neben inter­es­san­ten Rezepten erhal­ten Sie jede Menge nüt­zlich­er Tipps von den Ernährung­sex­perten. Die Zutat­en wer­den nach saisonalen\, möglichst regionalen Aspek­ten von uns aus­ge­sucht. Der Genuss­fak­tor kommt nicht zu kurz!Zum Leber­fas­ten- Gesund­heit­skochkurs gehört auch eine Ein­führung ins Leber­fas­ten\, sowie ein aus­führlich­es Hand­out\, damit Sie gle­ich mor­gen mit der Ernährung­sum­stel­lung anfan­gen können.  \n\n\n\nEine Auswahl was gekocht wird: Viel mit saisonalem Gemüse & Obst\, Fisch\, Fleisch oder Geflügel. \n\n\n\n\n\n\n\n\n\n\n\n\n\n\n\n\n\n\n\n\n\n\n\nWir behal­ten uns vor\, Kochevents bei weniger als 8 Teil­nehmern bis 4 Tage vor dem Ter­min umzubuchen oder abzusagen. In diesem Fall erfol­gt eine sofor­tige Benachrich­ti­gung und volle Rück­er­stat­tung. Bere­its gebuchte Tick­ets sind vom Umtausch und der Erstat­tung aus­geschlossen. Eine Über­tra­gung des Tick­ets auf eine andere Per­son ist möglich\, bitte informieren Sie uns rechtzeitig.
URL:https://praxis-essgenuss.de/event/leberfasten-der-gesundheitskochkurs-3/
ATTACH;FMTTYPE=image/jpeg:https://praxis-essgenuss.de/wp-content/uploads/2020/08/Fotolia_46241376_Subscription_Monthly_M.jpg
END:VEVENT
BEGIN:VEVENT
DTSTART;TZID=Europe/Berlin:20250827T180000
DTEND;TZID=Europe/Berlin:20250827T203000
DTSTAMP:20260424T003524
CREATED:20250512T103630Z
LAST-MODIFIED:20250512T111750Z
UID:10000172-1756317600-1756326600@praxis-essgenuss.de
SUMMARY:Buddha Bowls
DESCRIPTION:Gestal­ten Sie mit uns bunt gefüllte Schüs­seln voller Leck­ereien. Wir erzählen Ihnen woher Bud­dha Bowls über­haupt kom­men und danach kön­nen Sie sich mit frischem\, saisonalen Obst und Gemüse selb­st daran ver­suchen. Ler­nen Sie\, wie die Zutat­en kom­biniert und angerichtet wer­den und stellen Sie Ihre indi­vidu­elle Bowl ganz nach Ihrem Geschmack zusam­men.In gesel­liger Runde pro­bieren Sie sich anschließend durch die Köstlichkeiten. \n\n\n\n \n\n\n\n\n\n\n\n \n\n\n\n\n\n\n\n\n\n\n\n\n\n\n\n\n\n\n\n\n\n\n\n\n\n\n\nWir behal­ten uns vor\, Kochevents bei weniger als 8 Teil­nehmern bis 4 Tage vor dem Ter­min umzubuchen oder abzusagen. In diesem Fall erfol­gt eine sofor­tige Benachrich­ti­gung und volle Rück­er­stat­tung. Bere­its gebuchte Tick­ets sind vom Umtausch und der Erstat­tung aus­geschlossen. Eine Über­tra­gung des Tick­ets auf eine andere Per­son ist möglich\, bitte informieren Sie uns rechtzeitig.
URL:https://praxis-essgenuss.de/event/buddha-bowls-3/
END:VEVENT
END:VCALENDAR