BEGIN:VCALENDAR
VERSION:2.0
PRODID:-//Praxis Essgenuss - ECPv6.15.20//NONSGML v1.0//EN
CALSCALE:GREGORIAN
METHOD:PUBLISH
X-ORIGINAL-URL:https://praxis-essgenuss.de
X-WR-CALDESC:Veranstaltungen für Praxis Essgenuss
REFRESH-INTERVAL;VALUE=DURATION:PT1H
X-Robots-Tag:noindex
X-PUBLISHED-TTL:PT1H
BEGIN:VTIMEZONE
TZID:Europe/Berlin
BEGIN:DAYLIGHT
TZOFFSETFROM:+0100
TZOFFSETTO:+0200
TZNAME:CEST
DTSTART:20240331T010000
END:DAYLIGHT
BEGIN:STANDARD
TZOFFSETFROM:+0200
TZOFFSETTO:+0100
TZNAME:CET
DTSTART:20241027T010000
END:STANDARD
BEGIN:DAYLIGHT
TZOFFSETFROM:+0100
TZOFFSETTO:+0200
TZNAME:CEST
DTSTART:20250330T010000
END:DAYLIGHT
BEGIN:STANDARD
TZOFFSETFROM:+0200
TZOFFSETTO:+0100
TZNAME:CET
DTSTART:20251026T010000
END:STANDARD
BEGIN:DAYLIGHT
TZOFFSETFROM:+0100
TZOFFSETTO:+0200
TZNAME:CEST
DTSTART:20260329T010000
END:DAYLIGHT
BEGIN:STANDARD
TZOFFSETFROM:+0200
TZOFFSETTO:+0100
TZNAME:CET
DTSTART:20261025T010000
END:STANDARD
END:VTIMEZONE
BEGIN:VEVENT
DTSTART;TZID=Europe/Berlin:20250711T180000
DTEND;TZID=Europe/Berlin:20250711T220000
DTSTAMP:20260424T022132
CREATED:20250326T135609Z
LAST-MODIFIED:20250326T142205Z
UID:10000168-1752256800-1752271200@praxis-essgenuss.de
SUMMARY:After Work Cooking Summer Special
DESCRIPTION:Genießen Sie den Sommer mit all seinen köstlichen Aromen! Unser After Work Cooking – Summer Special bringt Ihnen die besten Zutaten des Julis auf den Teller – frisch\, leicht und voller Geschmack. \n\n\n\nIn diesem Workshop dreht sich alles um knackige Zucchini\, sonnengereifte Tomaten\, aromatische Beeren und frische Kräuter. Gemeinsam kreieren wir ein sommerliches Menü\, das sich perfekt für laue Abende auf dem Balkon oder im Garten eignet. Ob mediterrane Gemüsegerichte\, leichte Sommersalate oder eine fruchtige Nachspeise – hier entdecken Sie neue Lieblingsrezepte für die warme Jahreszeit. \n\n\n\nFreuen Sie sich auf einen genussvollen Abend mit entspanntem Kochen\, wertvollen Tipps für eine gesunde Sommerküche und einem passenden erfrischenden Getränk. Perfekt\, um nach der Arbeit abzuschalten und sich kulinarisch verwöhnen zu lassen! \n\n\n\n\n\n\n\nUnd wie immer bei unserem After Work Cooking kochen wir ganz nach dem Motto: Wer hat schon Lust\, nach einem langen Arbeitstag stundenlang in der Küche zu stehen? Beim After Work Cooking zeigen wir Ihnen\, wie Sie ohne großen Aufwand wirklich gutes Essen schnell zubereiten können. Die Rezepte sind alltagstauglich\, kreativ\, unkompliziert und vor allem lecker! Neben interessanten Rezepten erhalten Sie jede Menge nützlicher Tipps von den Ernährungsexperten. Die Zutaten werden nach saisonalen\, möglichst regionalen Aspekten von uns ausgesucht. Der Genussfaktor kommt nicht zu kurz! \n\n\n\n \n\n\n\n\n\n\n\n\n\n\n\nWir behalten uns vor\, Kochevents bei weniger als 8 Teilnehmern bis 4 Tage vor dem Termin umzubuchen oder abzusagen. In diesem Fall erfolgt eine sofortige Benachrichtigung und volle Rückerstattung. Bereits gebuchte Tickets sind vom Umtausch und der Erstattung ausgeschlossen. Eine Übertragung des Tickets auf eine andere Person ist möglich\, bitte informieren Sie uns rechtzeitig.
URL:https://praxis-essgenuss.de/event/after-work-cooking-summer-special/
LOCATION:Aben­teuer Küche\, Von-Arenberg-Straße 5\, Meerbusch\, Nordrhein-Westfalen\, 40668\, Deutschland
ATTACH;FMTTYPE=image/jpeg:https://praxis-essgenuss.de/wp-content/uploads/2022/08/074-scaled.jpg
END:VEVENT
END:VCALENDAR