BEGIN:VCALENDAR
VERSION:2.0
PRODID:-//Praxis Essgenuss - ECPv6.15.20//NONSGML v1.0//EN
CALSCALE:GREGORIAN
METHOD:PUBLISH
X-ORIGINAL-URL:https://praxis-essgenuss.de
X-WR-CALDESC:Veranstaltungen für Praxis Essgenuss
REFRESH-INTERVAL;VALUE=DURATION:PT1H
X-Robots-Tag:noindex
X-PUBLISHED-TTL:PT1H
BEGIN:VTIMEZONE
TZID:Europe/Berlin
BEGIN:DAYLIGHT
TZOFFSETFROM:+0100
TZOFFSETTO:+0200
TZNAME:CEST
DTSTART:20240331T010000
END:DAYLIGHT
BEGIN:STANDARD
TZOFFSETFROM:+0200
TZOFFSETTO:+0100
TZNAME:CET
DTSTART:20241027T010000
END:STANDARD
BEGIN:DAYLIGHT
TZOFFSETFROM:+0100
TZOFFSETTO:+0200
TZNAME:CEST
DTSTART:20250330T010000
END:DAYLIGHT
BEGIN:STANDARD
TZOFFSETFROM:+0200
TZOFFSETTO:+0100
TZNAME:CET
DTSTART:20251026T010000
END:STANDARD
BEGIN:DAYLIGHT
TZOFFSETFROM:+0100
TZOFFSETTO:+0200
TZNAME:CEST
DTSTART:20260329T010000
END:DAYLIGHT
BEGIN:STANDARD
TZOFFSETFROM:+0200
TZOFFSETTO:+0100
TZNAME:CET
DTSTART:20261025T010000
END:STANDARD
END:VTIMEZONE
BEGIN:VEVENT
DTSTART;TZID=Europe/Berlin:20250626T180000
DTEND;TZID=Europe/Berlin:20250626T203000
DTSTAMP:20260424T035109
CREATED:20230226T090817Z
LAST-MODIFIED:20250310T114429Z
UID:10000104-1750960800-1750969800@praxis-essgenuss.de
SUMMARY:Sommerrollen - Wir rollen den Sommer ein
DESCRIPTION:Sommerrollen! Nicht nur eine super Vorspeise oder Snack\, sondern auch ein gutes Mittagessen das lecker ist und schnell geht… dazu gibt es gekühlten Weißwein! \n\n\n\nSommerrollen eignen sich hervorragend als Vorspeise\, als leichtes Mittagessen am Arbeitsplatz\, als Picknick am See oder in einer geselligen Runde mit Freunden.Sommerrollen liegen voll im Trend. Kein Wunder\, denn sie sind im Handumdrehen gemacht\, super vielseitig und sowohl frisch\, aber auch als Meal Prep für Uni oder Arbeit bestens geeignet. Ganz nebenbei sind sie wahnsinnig gesund. Zusammen bereiten wir einer der vielfältigsten und individuellsten Snacks zu\, die es gibt. Zu den Rollen stellen wir Soßen\, von scharf über würzig\, mild bis süß her. Lasst Euch begeistern und genießt in geselliger Runde. \n\n\n\n \n\n\n\n\n\n\n\n\n\n\n\nWir behalten uns vor\, Kochevents bei weniger als 8 Teilnehmern bis 4 Tage vor dem Termin umzubuchen oder abzusagen. In diesem Fall erfolgt eine sofortige Benachrichtigung und volle Rückerstattung. Bereits gebuchte Tickets sind vom Umtausch und der Erstattung ausgeschlossen. Eine Übertragung des Tickets auf eine andere Person ist möglich\, bitte informieren Sie uns rechtzeitig.
URL:https://praxis-essgenuss.de/event/sommerrollen-wir-rollen-den-sommer-ein/
LOCATION:Aben­teuer Küche\, Von-Arenberg-Straße 5\, Meerbusch\, Nordrhein-Westfalen\, 40668\, Deutschland
ATTACH;FMTTYPE=image/jpeg:https://praxis-essgenuss.de/wp-content/uploads/2021/10/TS01177-3-1.jpg
END:VEVENT
END:VCALENDAR