BEGIN:VCALENDAR
VERSION:2.0
PRODID:-//Praxis Essgenuss - ECPv6.15.20//NONSGML v1.0//EN
CALSCALE:GREGORIAN
METHOD:PUBLISH
X-ORIGINAL-URL:https://praxis-essgenuss.de
X-WR-CALDESC:Veranstaltungen für Praxis Essgenuss
REFRESH-INTERVAL;VALUE=DURATION:PT1H
X-Robots-Tag:noindex
X-PUBLISHED-TTL:PT1H
BEGIN:VTIMEZONE
TZID:Europe/Berlin
BEGIN:DAYLIGHT
TZOFFSETFROM:+0100
TZOFFSETTO:+0200
TZNAME:CEST
DTSTART:20240331T010000
END:DAYLIGHT
BEGIN:STANDARD
TZOFFSETFROM:+0200
TZOFFSETTO:+0100
TZNAME:CET
DTSTART:20241027T010000
END:STANDARD
BEGIN:DAYLIGHT
TZOFFSETFROM:+0100
TZOFFSETTO:+0200
TZNAME:CEST
DTSTART:20250330T010000
END:DAYLIGHT
BEGIN:STANDARD
TZOFFSETFROM:+0200
TZOFFSETTO:+0100
TZNAME:CET
DTSTART:20251026T010000
END:STANDARD
BEGIN:DAYLIGHT
TZOFFSETFROM:+0100
TZOFFSETTO:+0200
TZNAME:CEST
DTSTART:20260329T010000
END:DAYLIGHT
BEGIN:STANDARD
TZOFFSETFROM:+0200
TZOFFSETTO:+0100
TZNAME:CET
DTSTART:20261025T010000
END:STANDARD
END:VTIMEZONE
BEGIN:VEVENT
DTSTART;TZID=Europe/Berlin:20250308T110000
DTEND;TZID=Europe/Berlin:20250308T160000
DTSTAMP:20260424T093557
CREATED:20250127T123438Z
LAST-MODIFIED:20250127T124348Z
UID:10000161-1741431600-1741449600@praxis-essgenuss.de
SUMMARY:Leberfasten - Der Gesundheitskochkurs
DESCRIPTION:Sie haben eine Fettleber\, möchten mit einer low-carb Ernährung oder mit Intervallfasten Ihren Stoffwechsel ankurbeln?Erfahren Sie wichtigsten Fakten über die Fettleber. Wir zeigen Ihnen\, wie aus frischen Lebensmitteln genussvolle und kreative\, leberfreundliche Kochideen entstehen und wie Sie das Leberfasten in Ihren Alltag integrieren können. \n\n\n\nDie Rezepte sind alltagstauglich\, kreativ\, unkompliziert und vor allem lecker! Neben interessanten Rezepten erhalten Sie jede Menge nützlicher Tipps von den Ernährungsexperten. Die Zutaten werden nach saisonalen\, möglichst regionalen Aspekten von uns ausgesucht. Der Genussfaktor kommt nicht zu kurz!Zum Leberfasten- Gesundheitskochkurs gehört auch eine Einführung ins Leberfasten\, sowie ein ausführliches Handout\, damit Sie gleich morgen mit der Ernährungsumstellung anfangen können.  \n\n\n\nEine Auswahl was gekocht wird: Viel mit saisonalem Gemüse & Obst\, Fisch\, Fleisch oder Geflügel.
URL:https://praxis-essgenuss.de/event/leberfasten-der-gesundheitskochkurs/
LOCATION:Aben­teuer Küche\, Von-Arenberg-Straße 5\, Meerbusch\, Nordrhein-Westfalen\, 40668\, Deutschland
ATTACH;FMTTYPE=image/jpeg:https://praxis-essgenuss.de/wp-content/uploads/2020/08/Fotolia_46241376_Subscription_Monthly_M.jpg
END:VEVENT
END:VCALENDAR