BEGIN:VCALENDAR
VERSION:2.0
PRODID:-//Praxis Essgenuss - ECPv6.15.20//NONSGML v1.0//EN
CALSCALE:GREGORIAN
METHOD:PUBLISH
X-ORIGINAL-URL:https://praxis-essgenuss.de
X-WR-CALDESC:Veranstaltungen für Praxis Essgenuss
REFRESH-INTERVAL;VALUE=DURATION:PT1H
X-Robots-Tag:noindex
X-PUBLISHED-TTL:PT1H
BEGIN:VTIMEZONE
TZID:Europe/Berlin
BEGIN:DAYLIGHT
TZOFFSETFROM:+0100
TZOFFSETTO:+0200
TZNAME:CEST
DTSTART:20240331T010000
END:DAYLIGHT
BEGIN:STANDARD
TZOFFSETFROM:+0200
TZOFFSETTO:+0100
TZNAME:CET
DTSTART:20241027T010000
END:STANDARD
BEGIN:DAYLIGHT
TZOFFSETFROM:+0100
TZOFFSETTO:+0200
TZNAME:CEST
DTSTART:20250330T010000
END:DAYLIGHT
BEGIN:STANDARD
TZOFFSETFROM:+0200
TZOFFSETTO:+0100
TZNAME:CET
DTSTART:20251026T010000
END:STANDARD
BEGIN:DAYLIGHT
TZOFFSETFROM:+0100
TZOFFSETTO:+0200
TZNAME:CEST
DTSTART:20260329T010000
END:DAYLIGHT
BEGIN:STANDARD
TZOFFSETFROM:+0200
TZOFFSETTO:+0100
TZNAME:CET
DTSTART:20261025T010000
END:STANDARD
END:VTIMEZONE
BEGIN:VEVENT
DTSTART;TZID=Europe/Berlin:20250117T180000
DTEND;TZID=Europe/Berlin:20250117T220000
DTSTAMP:20260424T125020
CREATED:20240726T110248Z
LAST-MODIFIED:20240726T110755Z
UID:10000122-1737136800-1737151200@praxis-essgenuss.de
SUMMARY:After Work Cooking
DESCRIPTION:Schnell\, einfach\, gesund und lecker! \n\n\n\nWer hat schon Lust\, nach einem langen Arbeitstag stundenlang in der Küche zu stehen? Beim After Work Cooking zeigen wir Ihnen\, wie Sie ohne großen Aufwand wirklich gutes Essen schnell zubereiten können. \n\n\n\nDie Rezepte sind alltagstauglich\, kreativ\, unkompliziert und vor allem lecker! Neben interessanten Rezepten erhalten Sie jede Menge nützlicher Tipps von den Ernährungsexperten. Die Zutaten werden nach saisonalen\, möglichst regionalen Aspekten von uns ausgesucht. Der Genussfaktor kommt nicht zu kurz! \n\n\n\nEine Auswahl was gekocht wird:Viel mit saisonalem Gemüse & Obst\, Fisch\, Fleisch oder Geflügel.
URL:https://praxis-essgenuss.de/event/after-work-cooking-4/
LOCATION:Aben­teuer Küche\, Von-Arenberg-Straße 5\, Meerbusch\, Nordrhein-Westfalen\, 40668\, Deutschland
ATTACH;FMTTYPE=image/jpeg:https://praxis-essgenuss.de/wp-content/uploads/2021/11/Kueche-Startseite.jpg
END:VEVENT
END:VCALENDAR