BEGIN:VCALENDAR
VERSION:2.0
PRODID:-//Praxis Essgenuss - ECPv6.15.20//NONSGML v1.0//EN
CALSCALE:GREGORIAN
METHOD:PUBLISH
X-ORIGINAL-URL:https://praxis-essgenuss.de
X-WR-CALDESC:Veranstaltungen für Praxis Essgenuss
REFRESH-INTERVAL;VALUE=DURATION:PT1H
X-Robots-Tag:noindex
X-PUBLISHED-TTL:PT1H
BEGIN:VTIMEZONE
TZID:Europe/Berlin
BEGIN:DAYLIGHT
TZOFFSETFROM:+0100
TZOFFSETTO:+0200
TZNAME:CEST
DTSTART:20230326T010000
END:DAYLIGHT
BEGIN:STANDARD
TZOFFSETFROM:+0200
TZOFFSETTO:+0100
TZNAME:CET
DTSTART:20231029T010000
END:STANDARD
BEGIN:DAYLIGHT
TZOFFSETFROM:+0100
TZOFFSETTO:+0200
TZNAME:CEST
DTSTART:20240331T010000
END:DAYLIGHT
BEGIN:STANDARD
TZOFFSETFROM:+0200
TZOFFSETTO:+0100
TZNAME:CET
DTSTART:20241027T010000
END:STANDARD
BEGIN:DAYLIGHT
TZOFFSETFROM:+0100
TZOFFSETTO:+0200
TZNAME:CEST
DTSTART:20250330T010000
END:DAYLIGHT
BEGIN:STANDARD
TZOFFSETFROM:+0200
TZOFFSETTO:+0100
TZNAME:CET
DTSTART:20251026T010000
END:STANDARD
END:VTIMEZONE
BEGIN:VEVENT
DTSTART;TZID=Europe/Berlin:20241206T180000
DTEND;TZID=Europe/Berlin:20241206T230000
DTSTAMP:20260424T140732
CREATED:20231003T121206Z
LAST-MODIFIED:20241201T134812Z
UID:10000121-1733508000-1733526000@praxis-essgenuss.de
SUMMARY:Weihnachtsmenü in der "Abenteuer Küche"
DESCRIPTION:Die besinnlichste Zeit des Jahres steht vor der Tür\, und was gibt es Schöneres\, als diese Stimmung mit gutem Essem\, und tollen Menschen zu teilen?  \n\n\n\nDie Weihnachtsfeier und das Weihnachtsessen sind mit die wichtigsten Bestandteile in der Weihnachtszeit. Warum also nicht beides kombinieren? Statt klassisch sich das fertig zubereitete Essen im Restaurant servieren zu lassen\, bereiten wir das Menü selbst zu! Bei unserer Weihnachtsfeier in der "Abenteuer Küche" zeigen wir Ihnen\, wie Sie  ohne Stress\, mit guter Vorbereitung\, ein köstliches 5- Gänge- Weihnachtsmenü für Ihre Liebsten zubereiten können.Unsere Rezepte sind kreativ\, gut vorzubereiten und vor allem lecker! Der Genussfaktor kommt dabei defintiv nicht zu kurz! \n\n\n\nBegebt euch gemeinsam auf die Suche nach neuen Geschmäckern und Genüssen. Gemeinschaftlich wird in ungezwungener und entspannter Atmosphäre ein anspruchsvolles und 5- Gänge umfassendes Wunschmenü zubereitet. Sie müssen nicht leidenschaftliche Köche und Gourmets sein\, denn während des gemeinsamen Schnippelns\, Verkostens\, Garnierens und Anrichtens stehen wir Ihnen jederzeit mit Rat und Tat zur Seite. \n\n\n\nUnd auch der besinnliche\, traditionelle Aspekt des Festes wird nicht vernachlässigt –in festlichem Ambiente\, passend zur vorweihnachtlichen Atmosphäre\, können Sie nach der Zubereitung Ihre selbst gezauberten kulinarischen Köstlichkeiten ausgiebig gemeinsam genießen. \n\n\n\n\n\n\n\nWir legen größten Wert auf die Herkunft der Lebensmittel\, die wir bei jedem Kochkurs verarbeiten\, und kaufen deshalb größtenteils Bio-Lebensmittel und vorwiegend regionale Produkte ein. Wir möchten Ihnen an dieser Stelle unseren Kooperationspartner\, die Solidarische Landwirtschaft Krefeld\, vorstellen\, welche uns für dieses Kochevent mit allerhand biologisch erzeugten\, regionalen und saisonalen Lebensmitteln frisch vom Feld versorgt. \n\n\n\nWir begrüßen Sie je nach Wetterlage mit einem Glühwein oder einem Sektempfang und einem kleinen Gruß aus der Küche. \n\n\n\nAnschließend geht es los mit der Zubereitung unseres weihnachtlichen Genussmenüs: \n\n\n\nCrostini mit Mandelcreme und Trauben \n\n\n\n- \n\n\n\nSüßkartoffel- Ingwer- Suppe  mit Garnelenspieß- \n\n\n\nKnackiger Feldsalat mit Orangen und ZiegenkäseRote Bete-Weihnachtsmannsalat \n\n\n\n-  \n\n\n\nBio- Lachs mit Kräuter-Nuss-Kruste \n\n\n\nFeines Kürbispüree mit gebratenen Pilzen und Kürbiskernwürzöl  \n\n\n\n- \n\n\n\nSchokoladenkuchen - eine „göttliche Verführung“ mit Feigedazu Espresso \n\n\n\n- \n\n\n\nAverna mit Zitronenzester auf Eis \n\n\n\n \n\n\n\nNatürlich gibt es zu dem Menü passende Weinbegleitung. \n\n\n\n\nWeihnachtsspritz\n\n\n\nCrostini mit Mandelcreme und Trauben\n\n\n\nKnackiger Feldsalat mit Walnüssen und ZiegenkäseRote Bete-Weihnachtsmannsalat\n\n\n\n\n\nSüßkartoffel- Ingwer- Suppe  mit Garnelenspieß\n\n\n\nLachs mit Walnuss-Kräuter-Kruste\n\n\n\nSchokoladenkuchen "göttliche Verführung"\n\n\n\n\n\n\n\n\n\n\nUnternehmen\, die sich für den weihnachtlichen festlichen Anlass einen besonderen Rahmen wünschen\, um sich bei ihren Mitarbeitern\, Geschäftspartnern oder Kunden mit einem unvergesslichen Erlebnis für ihren unermüdlichen und erfolgreichen Einsatz zu bedanken\, können in der Vorweihnachtszeit bei einem genussvollen Kochevent für Firmen teilnehmen. Ganz nebenbei entsteht die passende Gelegenheit das Team zusammenzubringen sowie einander besser und mal anders kennenzulernen. Sie werden sehen- es entsteht ein ganz neuer Teamgedanke. So wird auf der nächsten Weihnachtsfeier bestimmt der gesamte Kollegenkreis erscheinen. Das Weihnachtskochen eignet sich für einen tollen Abschluss des Jahres sowie ein besinnliches Zusammenkommen im Kreise der Kollegen*innen. \n\n\n\nWenn Sie für eine Gruppenbuchung Interesse haben\, kontaktieren Sie uns einfach per E-Mail info@praxis-essgenuss.de  oder telefonisch unter: 0177 1407004
URL:https://praxis-essgenuss.de/event/weihnachtsfeier-in-der-abenteuer-kueche/
ATTACH;FMTTYPE=image/jpeg:https://praxis-essgenuss.de/wp-content/uploads/2023/10/WhatsApp-Bild-2023-10-03-um-12.18.56.jpg
END:VEVENT
END:VCALENDAR